BEGIN:VCALENDAR
VERSION:2.0
PRODID:-//SVP Seuzach-Ohringen //NONSGML Events //EN
CALSCALE:GREGORIAN
X-WR-CALNAME:SVP Seuzach-Ohringen
BEGIN:VEVENT
CREATED:20251126T140242Z
UID:884
DTEND:20260526T210000
DTSTART:20260526T200000
DTSTAMP:20260423T134421Z
LOCATION:Halden
DESCRIPTION:Sekundarschule-Gemeindeversammlung
SUMMARY:Sekundarschule-Gemeindeversammlung
ORGANIZER:
URL;VALUE=URI:https://www.svp-seuzach.ch/termine/sekundarschule-gemeindeversammlung/
TRANSP:OPAQUE
END:VEVENT
END:VCALENDAR
